Workbook

Sheet Sheet1
A1: 附件2： 求职申请表 | I1: 高中 | J1: 男 | K1: 中共党员 | L1: 中专 | M1: 全日制 | N1: 01-湖北人民出版社有限公司 | P1: 1.编辑部人文社科类图书编辑
A2: 申请单位 | E2: 岗 位 | G2: 照片粘贴处 | I2: 中专 | J2: 女 | K2: 共青团员 | L2: 大专 | M2: 自考 | N2: 02-长江文艺出版社有限公司 | P2: 2.编辑部理科图书编辑
A3: 1.基本信息栏： | I3: 大专 | K3: 其他党派 | L3: 本科 | M3: 网络 | N3: 03-湖北教育出版社有限公司 | P3: 3.财务部财务人员
A4: 姓 名 | C4: 性 别 | E4: 出生年月 （1998.08） | I4: 本科 | K4: 群众 | L4: 硕士研究生 | M4: 成教 | N4: 04-长江少年儿童出版社（集团）有限公司 | P4: 4.图书编辑
A5: 民 族 | C5: 籍 贯 | E5: 政治面貌 | I5: 硕士研究生 | L5: 博士研究生 | M5: 电大 | N5: 05-湖北科学技术出版社有限公司 | P5: 5.新媒体部运营编辑岗
A6: 最高学历 | C6: 毕业院校 | F6: 所学专业 | I6: 博士研究生 | M6: 在职 | N6: 06-湖北美术出版社有限公司 | P6: 6.储运部物流管理岗
A7: 2.学习经历： | N7: 07-崇文书局有限公司 | P7: 7.发行部业务岗
A8: （学习经历请从大中专学习经历填起） 格式为：19**年*月—20**年*月 **大学**专业本科学习 | N8: 08-湖北九通电子音像出版社有限公司 | P8: 8.财务部出纳岗
A9: 学习层次 | C9: 学习类别 | D9: 起始时间 | E9: 毕业时间 | F9: 毕业学校 | G9: 所学专业 | N9: 09-湖北长江报刊传媒（集团）有限公司 | P9: 9.党建行政岗
N10: 10-湖北省新华书店（集团）有限公司 | P10: 10.编辑部文教图书编辑 （物理编辑1人、生物编辑1人、教育学1人）
N11: 11-湖北新华印务有限公司 | P11: 11.销售一部、销售二部销售人员
N12: 12-湖北长江传媒数字出版有限公司 | P12: 12.产品设计部副主任
N13: 13-武汉德锦投资有限公司 | P13: 13.质校部校对员
A14: 3.工作经历： | N14: 14-湖北博盛数字教育服务有限公司 | P14: 14.编辑室/一般图书编辑
A15: （简历请填写全部工作、任职经历） 格式为：20**年*月—20**年*月 **单位**部门员工 | N15: 15-湖北长江传媒安全生产文化传播有限公司 | P15: 15.文教分社/文教编辑
N16: 16-湖北长江传媒统计与决策学术传播有限公司 | P16: 16.财务部/核算会计
N17: 17-湖北倍悦文化创意有限公司 | P17: 17.长江绘本研究院/高级绘本讲师
P18: 18.编辑部副主任
A19: 4.家庭主要成员及重要社会关系： | P19: 19.编校中心副主任
A20: （家庭成员信息包括称谓、姓名、出生年月、工作单位及职务） | P20: 20.编校中心 校对
P21: 21.新媒体部 运营专员
P22: 22.发行部 大区营销人员
P23: 23.文字编辑
A24: 5.获得奖励/证书情况： | P24: 24.美术编辑
P25: 25.财务科 资金管理
N26: 09- | P26: 26.《汉语大字典》编辑部编辑
A27: 联系电话： | D27: 家庭住址： | N27: 10-湖北长江出版印刷物资有限公司 | P27: 27.《标准汉语学习词典》编纂处（拟成立）
A28: 注：应聘者承诺并保证所填写的信息真实有效，若有虚假，承担由此引起的一切责任。 我们承诺对应聘者信息严格保密。 | N28: 11-湖北长江传媒数字出版有限公司 | P28: 28.辞书编辑部 辞书编辑
N29: 12- | P29: 29.文史古籍编辑部编辑
P30: 30.大众文史编辑部编辑
P31: 31.学术文化编辑部 哲学编辑
N32: 15-教材分公司 | P32: 32.市场教辅编辑部 理科编辑
P33: 33.教育产品研发部 文理科编辑
N34: 17-外文书店 | P34: 34.市场营销部发行员
N35: 18-长江出版传媒股份有限公司 | P35: 35.综合部人事专员
P36: 36.教辅编辑部 理科编辑
P37: 37.儿童产品编辑部 文科编辑
P38: 38.综合部 党群管理岗
P39: 39.财务部 会计核算岗
P40: 40.教育期刊中心《新班主任》 编辑部编辑
...

Sheet Sheet2
B1: 申请单位 | C1: 岗位 | D1: 姓名 | E1: 性别 | F1: 出生年月 | G1: 民族 | H1: 籍贯 | I1: 政治面貌 | J1: 最高学历 | K1: 毕业院校 | L1: 所学专业 | M1: 本科学习类别 | N1: 本科学习院校 | O1: 本科学习专业 | P1: 本科起始时间 | Q1: 本科毕业时间 | R1: 联系电话 | S1: 工作经历 | T1: 家庭成员 | U1: 获奖情况 | V1: 家庭住址
B2: =Sheet1!B2 -> 0 | C2: =Sheet1!F2 -> 0 | D2: =Sheet1!B4 -> 0 | E2: =Sheet1!D4 -> 0 | F2: =Sheet1!F4 -> 0 | G2: =Sheet1!B5 -> 0 | H2: =Sheet1!D5 -> 0 | I2: =Sheet1!F5 -> 0 | J2: =Sheet1!B6 -> 0 | K2: =Sheet1!D6 -> 0 | L2: =Sheet1!G6 -> 0 | M2: =VLOOKUP("本科",Sheet1!A9:G13,3,0) -> #N/A | N2: =P2 -> #N/A | O2: =VLOOKUP("本科",Sheet1!A9:G13,7,0) -> #N/A | P2: =VLOOKUP("本科",Sheet1!A9:G13,4,0) -> #N/A | Q2: =VLOOKUP("本科",Sheet1!A9:G13,5,0) -> #N/A | R2: =Sheet1!B27 -> 0 | S2: =Sheet1!A16 -> 0 | T2: =Sheet1!A21 -> 0 | U2: =Sheet1!A25 -> 0 | V2: =Sheet1!E27 -> 0

Sheet Sheet3
